BEGIN:VCALENDAR
VERSION:2.0
PRODID:-//peaceCENTER - ECPv4.6.13//NONSGML v1.0//EN
CALSCALE:GREGORIAN
METHOD:PUBLISH
X-WR-CALNAME:peaceCENTER
X-ORIGINAL-URL:http://www.sanantoniopeace.center
X-WR-CALDESC:Events for peaceCENTER
BEGIN:VEVENT
DTSTART;TZID=America/Chicago:20141030T130000
DTEND;TZID=America/Chicago:20141030T160000
DTSTAMP:20260425T202651
CREATED:20141028T222647Z
LAST-MODIFIED:20141028T222647Z
UID:660-1414674000-1414684800@www.sanantoniopeace.center
SUMMARY:Raising Our Children\, Not Our Hand Workshop
DESCRIPTION: \n
URL:http://www.sanantoniopeace.center/event/raising-our-children-not-our-hand-workshop/
LOCATION:411 SW 24th St.\, San Antonio\, TX\, United States
ORGANIZER;CN="Worden%20School%20of%20Social%20Work":MAILTO:WordenConferences@lake.ollusa.edu
END:VEVENT
END:VCALENDAR