BEGIN:VCALENDAR
VERSION:2.0
PRODID:-//peaceCENTER - ECPv4.6.13//NONSGML v1.0//EN
CALSCALE:GREGORIAN
METHOD:PUBLISH
X-WR-CALNAME:peaceCENTER
X-ORIGINAL-URL:http://www.sanantoniopeace.center
X-WR-CALDESC:Events for peaceCENTER
BEGIN:VEVENT
DTSTART;TZID=America/Chicago:20161220T190000
DTEND;TZID=America/Chicago:20161220T203000
DTSTAMP:20260425T042417
CREATED:20161215T223501Z
LAST-MODIFIED:20161215T223501Z
UID:9303-1482260400-1482265800@www.sanantoniopeace.center
SUMMARY:Protect Refugees: Take Back Our Bus Stations
DESCRIPTION: \nRefugee women and children are constantly being dropped off by ICE at our downtown bus station after their release from detention centers. They are disoriented\, often have no money or food\, and can easily become victims to criminals and traffickers. \nCome by our church\, San Antonio Mennonite\, Tuesday night\, 7pm. Learn how to you can help. \nTraining includes identifying\, approaching\, guiding\, orienting refugees to basic legal rights\, passing out backpacks full of resources\, basic medical support\, and gathering data to send to volunteer groups in destination cities. \n
URL:http://www.sanantoniopeace.center/event/protect-refugees-take-back-our-bus-stations/
LOCATION:1443 S. St. Mary's\, San Antonio\, TX\, 78210\, United States
CATEGORIES:Other
ORGANIZER;CN="San%20Antonio%20Mennonite%20Church":MAILTO:jlcapplevalleyca@gmail.com
END:VEVENT
END:VCALENDAR