BEGIN:VCALENDAR
VERSION:2.0
PRODID:-//peaceCENTER - ECPv4.6.13//NONSGML v1.0//EN
CALSCALE:GREGORIAN
METHOD:PUBLISH
X-WR-CALNAME:peaceCENTER
X-ORIGINAL-URL:http://www.sanantoniopeace.center
X-WR-CALDESC:Events for peaceCENTER
BEGIN:VEVENT
DTSTART;TZID=America/Chicago:20160630T083000
DTEND;TZID=America/Chicago:20160630T170000
DTSTAMP:20260425T190556
CREATED:20160627T212929Z
LAST-MODIFIED:20160627T212929Z
UID:7601-1467275400-1467306000@www.sanantoniopeace.center
SUMMARY:Press Conference and Rally for the Coal Tar Ban
DESCRIPTION:Please join GEAA and Moms Clean Air Force for a press conference and rally in support of the proposed ban on coal-tar sealants.  Feel free to bring signs. \n  When:  Thursday\, June 30th   City Council A Session at 9:00 a.m. (Agenda Item #20)   Press Conference at 8:30 a.m. at Main Plaza \n What: June 30th Council Session will be a milestone for San Antonio’s environment as City Council will consider a ban on coal tar based sealants and a policy limiting the idling of heavy duty vehicles. \n If you are planning to speak\, you must sign up at City Council Chambers before 9:a.m. \nIn celebration of the occasion\, Coal Tar Free America will be “bringing our readers our first livestream event of what may become the nation’s largest city to ban toxic coal tar sealers.”  You can watch and leave comments about the proceedings\, even if you can’t attend\, by clicking here.  \nIf you want a quick education\, read this FAQ. \n
URL:http://www.sanantoniopeace.center/event/press-conference-and-rally-for-the-coal-tar-ban/
LOCATION:105 Main Plaza\, San Antonio\, TX\, 78205\, United States
CATEGORIES:Other
END:VEVENT
END:VCALENDAR