BEGIN:VCALENDAR
VERSION:2.0
PRODID:-//peaceCENTER - ECPv4.6.13//NONSGML v1.0//EN
CALSCALE:GREGORIAN
METHOD:PUBLISH
X-WR-CALNAME:peaceCENTER
X-ORIGINAL-URL:http://www.sanantoniopeace.center
X-WR-CALDESC:Events for peaceCENTER
BEGIN:VEVENT
DTSTART;TZID=America/Chicago:20160119T190000
DTEND;TZID=America/Chicago:20160119T200000
DTSTAMP:20260425T105812
CREATED:20160109T022336Z
LAST-MODIFIED:20160109T022336Z
UID:6021-1453230000-1453233600@www.sanantoniopeace.center
SUMMARY:Prayer for Christian Unity
DESCRIPTION:Prayer for Christian Unity on Tuesday evening\, January 19th\, 2016 at 7 PM in the Immaculate Conception Chapel.  The Rev Raymond Bryant from the AME tradition will be the speaker.  There is a reception to follow at the Whitley. \n
URL:http://www.sanantoniopeace.center/event/prayer-for-christian-unity/
LOCATION:285 Oblate Dr.\, San Antonio\, TX\, 78216\, United States
END:VEVENT
END:VCALENDAR