BEGIN:VCALENDAR
VERSION:2.0
PRODID:-//peaceCENTER - ECPv4.6.13//NONSGML v1.0//EN
CALSCALE:GREGORIAN
METHOD:PUBLISH
X-WR-CALNAME:peaceCENTER
X-ORIGINAL-URL:http://www.sanantoniopeace.center
X-WR-CALDESC:Events for peaceCENTER
BEGIN:VEVENT
DTSTART;TZID=America/Chicago:20180126T190000
DTEND;TZID=America/Chicago:20180126T210000
DTSTAMP:20260424T223820
CREATED:20180122T030326Z
LAST-MODIFIED:20180122T124249Z
UID:12026-1516993200-1517000400@www.sanantoniopeace.center
SUMMARY:Poets for Peace
DESCRIPTION: \nOur very own Robert Okaji will be reading from his new chapbook\, From Every Moment A Second (Finishing Line Press\, 2017)! I’m sure he’ll bring copies for sale for those of you who didn’t pre-order. If you did pre-order\, remember to bring your copy for a signature! \nSan Antonio’s iconic poet\, Don Mathis will delight and amuse and Martha K. Grant\, Pushcart prize nominee and author of A Curse on the Fairest Joys (Aldrich Press\, 2015)\, may be bringing us more of her cat-as-prayer-rug poems\, but who knows\, she always surprises. \nD ellis phelps will be reading some new work & we welcome\, newcomer\, Samantha Price who brings her bluesee tunes on acoustic guitar. \nCome. Hug. Laugh. & Remember…all is well. Feel free to share with others & RSVP ASAP!  Bring a light snack to share. \nRSVP to d ellis phelps (dellisphelps(at)gmail.com) to obtain the address of the private home where the event will take place. \n
URL:http://www.sanantoniopeace.center/event/poets-for-peace-4/
LOCATION:3114 Letitia\, San Antonio\, TX\, United States
CATEGORIES:peaceCENTER
ATTACH;FMTTYPE=image/jpeg:http://www.sanantoniopeace.center/wp-content/uploads/2018/01/poetsforpeacejan18.jpg
ORGANIZER;CN="peaceCENTER":MAILTO:info@sacompassionnet.org
END:VEVENT
END:VCALENDAR