BEGIN:VCALENDAR
VERSION:2.0
PRODID:-//peaceCENTER - ECPv4.6.13//NONSGML v1.0//EN
CALSCALE:GREGORIAN
METHOD:PUBLISH
X-WR-CALNAME:peaceCENTER
X-ORIGINAL-URL:http://www.sanantoniopeace.center
X-WR-CALDESC:Events for peaceCENTER
BEGIN:VEVENT
DTSTART;TZID=America/Chicago:20170922T190000
DTEND;TZID=America/Chicago:20170922T210000
DTSTAMP:20260425T030348
CREATED:20170912T005250Z
LAST-MODIFIED:20170912T005250Z
UID:11184-1506106800-1506114000@www.sanantoniopeace.center
SUMMARY:Poets for Peace
DESCRIPTION: \n
URL:http://www.sanantoniopeace.center/event/poets-for-peace-3/
LOCATION:13633 Bluffcircle\, San Antonio\, TX\, 78216\, United States
CATEGORIES:Other
END:VEVENT
END:VCALENDAR