BEGIN:VCALENDAR
VERSION:2.0
PRODID:-//peaceCENTER - ECPv4.6.13//NONSGML v1.0//EN
CALSCALE:GREGORIAN
METHOD:PUBLISH
X-WR-CALNAME:peaceCENTER
X-ORIGINAL-URL:http://www.sanantoniopeace.center
X-WR-CALDESC:Events for peaceCENTER
BEGIN:VEVENT
DTSTART;TZID=America/Chicago:20151118T160000
DTEND;TZID=America/Chicago:20151118T200000
DTSTAMP:20260425T110053
CREATED:20151116T142042Z
LAST-MODIFIED:20151116T142042Z
UID:5136-1447862400-1447876800@www.sanantoniopeace.center
SUMMARY:Poetry for the People
DESCRIPTION: \n
URL:http://www.sanantoniopeace.center/event/poetry-for-the-people-2/
LOCATION:2417 N. Main\, San Antonio\, TX\, United States
END:VEVENT
END:VCALENDAR