BEGIN:VCALENDAR
VERSION:2.0
PRODID:-//peaceCENTER - ECPv4.6.13//NONSGML v1.0//EN
CALSCALE:GREGORIAN
METHOD:PUBLISH
X-WR-CALNAME:peaceCENTER
X-ORIGINAL-URL:http://www.sanantoniopeace.center
X-WR-CALDESC:Events for peaceCENTER
BEGIN:VEVENT
DTSTART;TZID=America/Chicago:20150313T200000
DTEND;TZID=America/Chicago:20150313T220000
DTSTAMP:20260425T134847
CREATED:20150206T170818Z
LAST-MODIFIED:20150206T170818Z
UID:2336-1426276800-1426284000@www.sanantoniopeace.center
SUMMARY:Play: Crime & Punishment
DESCRIPTION:March 13 – April 5\, 2015  @ Cellar Theater\n \nThree actors portray and ensemble of characters in this twisting\, fast-paced thriller that draws the audience into its conversation on the nature of evil. \n\n
URL:http://www.sanantoniopeace.center/event/play-crime-punishment/
LOCATION:800 West Ashby Place\, San Antonio\, TX\, 78212\, United States
END:VEVENT
END:VCALENDAR