BEGIN:VCALENDAR
VERSION:2.0
PRODID:-//peaceCENTER - ECPv4.6.13//NONSGML v1.0//EN
CALSCALE:GREGORIAN
METHOD:PUBLISH
X-WR-CALNAME:peaceCENTER
X-ORIGINAL-URL:http://www.sanantoniopeace.center
X-WR-CALDESC:Events for peaceCENTER
BEGIN:VEVENT
DTSTART;TZID=America/Chicago:20160922T110000
DTEND;TZID=America/Chicago:20160922T121500
DTSTAMP:20260425T193200
CREATED:20160921T081344Z
LAST-MODIFIED:20160921T081344Z
UID:8781-1474542000-1474546500@www.sanantoniopeace.center
SUMMARY:Platica on Willie Velasquez and Voter Rights Activism with Barbara Renaud Gonzalez
DESCRIPTION: \nMAP OF CAMPUS \n
URL:http://www.sanantoniopeace.center/event/platica-on-willie-velasquez-and-voter-rights-activism-with-barbara-renaud-gonzalez/
LOCATION:3535 N Ellison Dr\,\, San Antonio\, TX\, 78251\, United States
CATEGORIES:Other
END:VEVENT
END:VCALENDAR