BEGIN:VCALENDAR
VERSION:2.0
PRODID:-//peaceCENTER - ECPv4.6.13//NONSGML v1.0//EN
CALSCALE:GREGORIAN
METHOD:PUBLISH
X-WR-CALNAME:peaceCENTER
X-ORIGINAL-URL:http://www.sanantoniopeace.center
X-WR-CALDESC:Events for peaceCENTER
BEGIN:VEVENT
DTSTART;TZID=America/Chicago:20160107T183000
DTEND;TZID=America/Chicago:20160107T200000
DTSTAMP:20260425T132044
CREATED:20160105T134154Z
LAST-MODIFIED:20160105T134154Z
UID:5966-1452191400-1452196800@www.sanantoniopeace.center
SUMMARY:Planning Meeting for Interfaith Harmony Week
DESCRIPTION:Planning meeting for World Interfaith Harmony Week – TOGETHER Caring for Creation is Thursday\, January 7 from 6:30pm-8:00pm at Denman Estate Library Building (7735 Mockingbird Lane\, San Antonio\, TX 78229). \nShare in “TOGETHER Caring for Creation\,” An Interfaith Week of Learning\, Reflection\, and Commitment to Action\, January 30 to February 7\, 2016. \nPart of the World Interfaith Harmony Week initiative http://worldinterfaithharmonyweek.com/ \nIs your faith-group challenging membership to reflect on care of the earth\, climate change\, and sustainability? Would you be willing to open a gathering that you are having at your place to the general public? Would you like to contribute to or participate in gatherings hosted by others? \nThe UIW Interfaith Retreat and Conference Center at the Denman Estate Park and the University of the Incarnate Word wish promote these events which will take place city-wide. \nNow through January 7th\, please e-mail rcc@uiwtx.edu with: \n1) Your name to be listed as a co-sponsor which means that you will help promote the events. Currently UIW\, San Antonio Interfaith Power and Light https://www.facebook.com/SanAntonioIPL/\, and others are co-sponsors. \n2) Information on your gathering which can be listed on a central calendar on our website. \nContacts: Sister Alice Holden\, D.Min. rcc@uiwtx.edu \nSister Martha Ann Kirk\, Th.D. kirk@uiwtx.edu \nEttling Center for Civic Leadership http://www.uiw.edu/ccl/ \n
URL:http://www.sanantoniopeace.center/event/planning-meeting-for-interfaith-harmony-week/
LOCATION:7735 Mockingbird Lane\,\, San Antonio\, TX\, 78229\, United States
END:VEVENT
END:VCALENDAR