BEGIN:VCALENDAR
VERSION:2.0
PRODID:-//peaceCENTER - ECPv4.6.13//NONSGML v1.0//EN
CALSCALE:GREGORIAN
METHOD:PUBLISH
X-WR-CALNAME:peaceCENTER
X-ORIGINAL-URL:http://www.sanantoniopeace.center
X-WR-CALDESC:Events for peaceCENTER
BEGIN:VEVENT
DTSTART;TZID=America/Chicago:20160630T190000
DTEND;TZID=America/Chicago:20160630T210000
DTSTAMP:20260425T190654
CREATED:20160623T114722Z
LAST-MODIFIED:20160623T114722Z
UID:7543-1467313200-1467320400@www.sanantoniopeace.center
SUMMARY:Planning Meeting for Farm Workers Strike & March 50th Anniversary Commemoration
DESCRIPTION:The San Antonio event will be Monday\, Labor Day\, Sep 5\, 2016.  10 am Mass at the San Fernando Cathedral\, followed by a march to Milam Park. \n
URL:http://www.sanantoniopeace.center/event/planning-meeting-for-farm-workers-strike-march-50th-anniversary-commemoration/
LOCATION:922 San Pedro\, San Antonio\, TX\, 78212\, United States
CATEGORIES:Other
END:VEVENT
END:VCALENDAR