BEGIN:VCALENDAR
VERSION:2.0
PRODID:-//peaceCENTER - ECPv4.6.13//NONSGML v1.0//EN
CALSCALE:GREGORIAN
METHOD:PUBLISH
X-WR-CALNAME:peaceCENTER
X-ORIGINAL-URL:http://www.sanantoniopeace.center
X-WR-CALDESC:Events for peaceCENTER
BEGIN:VEVENT
DTSTART;TZID=America/Chicago:20141213T110000
DTEND;TZID=America/Chicago:20141213T130000
DTSTAMP:20260425T160641
CREATED:20141210T165702Z
LAST-MODIFIED:20141210T165702Z
UID:1643-1418468400-1418475600@www.sanantoniopeace.center
SUMMARY:Planning meeting for a  a march and workshop on police abuse
DESCRIPTION:Planning meeting for a  a march and workshop on police abuse\,  this Saturday at Antioch Baptist Church at 11am. \n
URL:http://www.sanantoniopeace.center/event/planning-meeting-for-a-a-march-and-workshop-on-police-abuse/
LOCATION:1001 N Walters\, San Antonio\, TX\, 78202\, United States
END:VEVENT
END:VCALENDAR