BEGIN:VCALENDAR
VERSION:2.0
PRODID:-//peaceCENTER - ECPv4.6.13//NONSGML v1.0//EN
CALSCALE:GREGORIAN
METHOD:PUBLISH
X-WR-CALNAME:peaceCENTER
X-ORIGINAL-URL:http://www.sanantoniopeace.center
X-WR-CALDESC:Events for peaceCENTER
BEGIN:VEVENT
DTSTART;TZID=America/Chicago:20151212T140000
DTEND;TZID=America/Chicago:20151212T170000
DTSTAMP:20260425T141043
CREATED:20151125T173511Z
LAST-MODIFIED:20151125T173511Z
UID:5250-1449928800-1449939600@www.sanantoniopeace.center
SUMMARY:Pilgrimage to our Four Missions Celebrating el dia de la Virgen de Guadalupe
DESCRIPTION:Terry Ybanez is one of the local leaders from the San Jose Mission who is attempting to protect the grounds of the San Jose Mission and the surrounding area from over-development. Now that it’s been named a World Heritage Site — the developers\, including Henry Cisneros himself\, are smelling the green blood. Please\, please\, consider participating on Saturday\, December 12th\, in this Caminada! An easy\, good\, healthy\, walk to support the environment\, and celebrate the woman who is our spiritual and cultural wealth. \n \n
URL:http://www.sanantoniopeace.center/event/pilgrimage-to-our-four-missions-celebrating-el-dia-de-la-virgen-de-guadalupe/
LOCATION:807 Mission Road\, San Antonio\, TX\, 78210\, United States
END:VEVENT
END:VCALENDAR