BEGIN:VCALENDAR
VERSION:2.0
PRODID:-//peaceCENTER - ECPv4.6.13//NONSGML v1.0//EN
CALSCALE:GREGORIAN
METHOD:PUBLISH
X-WR-CALNAME:peaceCENTER
X-ORIGINAL-URL:http://www.sanantoniopeace.center
X-WR-CALDESC:Events for peaceCENTER
BEGIN:VEVENT
DTSTART;TZID=America/Chicago:20151117T190000
DTEND;TZID=America/Chicago:20151117T210000
DTSTAMP:20260425T143359
CREATED:20151114T143826Z
LAST-MODIFIED:20151114T143826Z
UID:5091-1447786800-1447794000@www.sanantoniopeace.center
SUMMARY:Pets Alive! Town Hall Meeting
DESCRIPTION:\n\n\nPlease join Pets Alive! for a Town Hall meeting on November 17th from 7pm-9pm located in the Petco Pavilion and Lawn at the Paul Jolly Adoption Center.  Hosted by SAPA’s new CEO\, Drue Placette\, the meeting will provide perspective on recent internal and external changes\, vision and implementation plans\, and exciting opportunities. The informational meeting will be followed by a Question & Answer where you can freely voice your concerns and ideas.\n\nPlease RSVP as space is limited\n\n*** Seating will be limited in the pavilion\, Please bring your own chair if possible.\n\n\n\n\n\n\n
URL:http://www.sanantoniopeace.center/event/pets-alive-town-hall-meeting/
LOCATION:210 Tuleta Dr.\, San Antonio\, TX\, 78212\, United States
END:VEVENT
END:VCALENDAR