BEGIN:VCALENDAR
VERSION:2.0
PRODID:-//peaceCENTER - ECPv4.6.13//NONSGML v1.0//EN
CALSCALE:GREGORIAN
METHOD:PUBLISH
X-WR-CALNAME:peaceCENTER
X-ORIGINAL-URL:http://www.sanantoniopeace.center
X-WR-CALDESC:Events for peaceCENTER
BEGIN:VEVENT
DTSTART;TZID=America/Chicago:20150206T200000
DTEND;TZID=America/Chicago:20150206T220000
DTSTAMP:20260425T152129
CREATED:20150123T174603Z
LAST-MODIFIED:20150123T175505Z
UID:2163-1423252800-1423260000@www.sanantoniopeace.center
SUMMARY:Pete Seeger Songfest with Jim Scott & Dana Clark
DESCRIPTION:Tickets: $10 online at Dana Clark Music\n$15 at the door\nFree “Peace Is Our Birthright” CD to first 10 people who order tickets! \nDear Friends:\nWhen it comes to working for peace and social justice\, I believe music is one of our most powerful tools. Pete Seeger is my hero\, because he spent his life creating songs to make the world a better place. \nJim Scott worked with Pete Seeger on many projects and he has stories to tell and songs to sing! I am honored to be able to help with the music. And you’ll be singing with us too\, as we share songs written and inspired by Pete: If I Had a Hammer\, Turn\, Turn\, Turn\, Where Have All the Flowers Gone and many more. \nPete said this about Jim Scott: “He is some kind of a magician.” A prolific songwriter\, he is known to many as guitarist with the Paul Winter Consort and co-composer of their celebrated “Missa Gaia / Earth Mass.” www.JimScottMusic.com. \nOur hero\, Pete Seeger\, walks the earth no more. But we will keep his music and his work alive. \nFor more information\, contact me at dana@danaclarkmusic.com. \nPeace! Dana \n
URL:http://www.sanantoniopeace.center/event/pete-seeger-songfest-with-jim-scott-dana-clark/
END:VEVENT
END:VCALENDAR