BEGIN:VCALENDAR
VERSION:2.0
PRODID:-//peaceCENTER - ECPv4.6.13//NONSGML v1.0//EN
CALSCALE:GREGORIAN
METHOD:PUBLISH
X-WR-CALNAME:peaceCENTER
X-ORIGINAL-URL:http://www.sanantoniopeace.center
X-WR-CALDESC:Events for peaceCENTER
BEGIN:VEVENT
DTSTART;TZID=America/Chicago:20160823T183000
DTEND;TZID=America/Chicago:20160823T223000
DTSTAMP:20260425T193107
CREATED:20160808T123253Z
LAST-MODIFIED:20160808T123253Z
UID:8323-1471977000-1471991400@www.sanantoniopeace.center
SUMMARY:PechaKucha San Antonio Vol. 23
DESCRIPTION: \nPechaKucha Night San Antonio\, in partnership with Las Casas Foundation\, presents PechaKucha San Antonio Vol. 23. \nTuesday\, August 23\, 2016\nCharline McCombs Empire Theatre\n226 N. St. Mary’s St.\, San Antonio\, TX 78205 \n6:30 p.m. Happy Hour\n7:30 p.m. Presentations \nEmcee: News 4 San Antonio’s Randy Beamer \n$5 donation\nSmall bites\, cash bar. \nPechaKucha is a 20 image x 20 second arts and culture series. We host speakers who share their passions in a unique format: Once a quarter\, eight presenters get exactly 20 images\, and each image advances automatically every 20 seconds (for a total time of 6:40).  \n
URL:http://www.sanantoniopeace.center/event/pechakucha-san-antonio-vol-23/
LOCATION:226 N. St. Mary's\, San Antonio\, TX\, 78205\, United States
CATEGORIES:Other
END:VEVENT
END:VCALENDAR