BEGIN:VCALENDAR
VERSION:2.0
PRODID:-//peaceCENTER - ECPv4.6.13//NONSGML v1.0//EN
CALSCALE:GREGORIAN
METHOD:PUBLISH
X-WR-CALNAME:peaceCENTER
X-ORIGINAL-URL:http://www.sanantoniopeace.center
X-WR-CALDESC:Events for peaceCENTER
BEGIN:VEVENT
DTSTART;TZID=America/Chicago:20151201T180000
DTEND;TZID=America/Chicago:20151201T223000
DTSTAMP:20260425T112503
CREATED:20151026T102409Z
LAST-MODIFIED:20151026T102409Z
UID:4607-1448992800-1449009000@www.sanantoniopeace.center
SUMMARY:PechaKucha Night San Antonio Vol. 20
DESCRIPTION:PechaKucha Night San Antonio presents its milestone 20th event on Dec. 1 and is joining forces with SA2020 to mark the occasion. SA2020\, a city organization celebrating its 5th year enacting community-led change\, co-presents Vol. 20 and will raise funds toward their mission at the event. \nPechaKucha Night San Antonio Vol. 20\nTuesday\, Dec. 1\, 2015\nMajestic Theatre\n224 E. Houston St.\, San Antonio\, TX 78205 \n6 p.m. Pre-Show Happy Hour\n7:30 p.m. Presentations with Intermission\n10:30 p.m. After Party at The Last Word \n$5 suggested minimum donation\nLight snacks are provided.\nEmcee: Randy Beamer\, News 4 San Antonio \nIn partnership with Las Casas Foundation. \nAbout: PechaKucha (Japanese for “chit chat”) is an event format developed by Tokyo’s Klein Dytham Architecture to encourage creative professionals to share projects and ideas that they are passionate about. Since it began in 2003\, PechaKucha has expanded to more than 800 cities around the world. PechaKucha presenters get exactly 20 PowerPoint slides\, and each slide advances automatically every 20 seconds (for a total time of 6:40). San Antonio’s first quarterly PechaKucha Night was held in February 2011 and now attracts hundreds of attendees to venues throughout San Antonio. It showcases a broad range of individuals\, including artists\, academics\, architects\, journalists\, authors\, mental health professionals\, chefs\, community leaders\, musicians\, florists\, potters\, and carpenters. \n
URL:http://www.sanantoniopeace.center/event/pechakucha-night-san-antonio-vol-20/
LOCATION:224 E. Houston\, San Antonio\, TX\, 78205\, United States
END:VEVENT
END:VCALENDAR