BEGIN:VCALENDAR
VERSION:2.0
PRODID:-//peaceCENTER - ECPv4.6.13//NONSGML v1.0//EN
CALSCALE:GREGORIAN
METHOD:PUBLISH
X-WR-CALNAME:peaceCENTER
X-ORIGINAL-URL:http://www.sanantoniopeace.center
X-WR-CALDESC:Events for peaceCENTER
BEGIN:VEVENT
DTSTART;TZID=America/Chicago:20161022T160000
DTEND;TZID=America/Chicago:20161022T220000
DTSTAMP:20260425T130336
CREATED:20160824T222513Z
LAST-MODIFIED:20160824T222513Z
UID:8504-1477152000-1477173600@www.sanantoniopeace.center
SUMMARY:Peace in the Park
DESCRIPTION: \n\nP.E.A.C.E. Initiative\, Dreamland Collective Productions and Culture & Creative Development\, City of San Antonio Present: “Peace In The Park” \nThe month of October is domestic abuse awareness month and we have put together a very special event for our local community in this regard. \nJoin us for “Peace In The Park” on Oct.22 for live music\, art\, vendors\, kids activities\, FREE food by Krishna Temple Of San Antonio and much more! \nFREE event for the entire family! \nLive music by:\nJuanito Castillo\nChisme\nThe Foreign Arm\nVolcán \n\n
URL:http://www.sanantoniopeace.center/event/peace-in-the-park/
LOCATION:331 Roosevelt\, San Antonio\, TX\, United States
END:VEVENT
END:VCALENDAR