BEGIN:VCALENDAR
VERSION:2.0
PRODID:-//peaceCENTER - ECPv4.6.13//NONSGML v1.0//EN
CALSCALE:GREGORIAN
METHOD:PUBLISH
X-WR-CALNAME:peaceCENTER
X-ORIGINAL-URL:http://www.sanantoniopeace.center
X-WR-CALDESC:Events for peaceCENTER
BEGIN:VEVENT
DTSTART;TZID=America/Chicago:20150205T092500
DTEND;TZID=America/Chicago:20150205T143000
DTSTAMP:20260425T141140
CREATED:20150203T163403Z
LAST-MODIFIED:20150203T163403Z
UID:2268-1423128300-1423146600@www.sanantoniopeace.center
SUMMARY:Panel & Film -- The Civil Rights Movement and Beyond @ San Antonio College
DESCRIPTION:Documentary: “They Had a Dream Too”\n9:25 a.m. to 10:30 a.m.\n12:30 p.m. to 2:30 p.m.\nLoftin Student Center Fiesta Room [MAP] \nThey Had a Dream Too: Young Leaders of the Civil Rights Movement consists of a 28 minute film highlighting the achievement of a few of the thousands of young people who made a difference in the 1950s and 1960s when the struggle for civil rights reached its peak in the United States. The film includes interviews with people who as young adults helped changed their world. The film also contains a component that educates students about civil rights struggles that have occurred since the 1960s and challenges young people to become leaders today. \nPanel: The Civil Rights Movement and Beyond\n10:50 a.m. to 12:05 p.m.\nLoftin Student Center Fiesta Room \nCan’t attend the presentation? You can watch the film online:\n \n
URL:http://www.sanantoniopeace.center/event/panel-film-the-civil-rights-movement-and-beyond-san-antonio-college/
LOCATION:1300 San Pedro Ave\, San Antonio\, TX\, 78212\, United States
END:VEVENT
END:VCALENDAR