BEGIN:VCALENDAR
VERSION:2.0
PRODID:-//peaceCENTER - ECPv4.6.13//NONSGML v1.0//EN
CALSCALE:GREGORIAN
METHOD:PUBLISH
X-WR-CALNAME:peaceCENTER
X-ORIGINAL-URL:http://www.sanantoniopeace.center
X-WR-CALDESC:Events for peaceCENTER
BEGIN:VEVENT
DTSTART;TZID=America/Chicago:20170221T120000
DTEND;TZID=America/Chicago:20170221T133000
DTSTAMP:20260425T102907
CREATED:20170203T162256Z
LAST-MODIFIED:20170203T162256Z
UID:9701-1487678400-1487683800@www.sanantoniopeace.center
SUMMARY:Panel Discussion: Black History Education and Civil Rights in the Millennial Age @PaloAlto
DESCRIPTION: \nThis panel discussion will focus on the importance of Black history education and civil rights and their relevance in our modern lives. Hear from panelists Dr. Kevin Cokley (professor of African and African Diaspora Studies at University of Texas at Austin); Dr. Mike Flores (president of Palo Alto College); and Oliver Hill (president of NAACP San Antonio Chapter). Reception to follow. \n
URL:http://www.sanantoniopeace.center/event/panel-discussion-black-history-education-and-civil-rights-in-the-millennial-age-paloalto/
LOCATION:1400 W. Villaret Blvd\, San Antonio\, TX\, 78224\, United States
CATEGORIES:Other
END:VEVENT
END:VCALENDAR