BEGIN:VCALENDAR
VERSION:2.0
PRODID:-//peaceCENTER - ECPv4.6.13//NONSGML v1.0//EN
CALSCALE:GREGORIAN
METHOD:PUBLISH
X-WR-CALNAME:peaceCENTER
X-ORIGINAL-URL:http://www.sanantoniopeace.center
X-WR-CALDESC:Events for peaceCENTER
BEGIN:VEVENT
DTSTART;TZID=America/Chicago:20150212T193000
DTEND;TZID=America/Chicago:20150212T210000
DTSTAMP:20260425T122604
CREATED:20150115T192817Z
LAST-MODIFIED:20150115T192817Z
UID:2051-1423769400-1423774800@www.sanantoniopeace.center
SUMMARY:Palestine-Israel in the 21st Century
DESCRIPTION:\n\n\n \nLuke Peterson\, visiting professor in Contemporary International Issues at the Global Studies Center at the University of Pittsburgh\, will present “Palestine-Israel in the 21st Century: Ending Endless War.” \nPeterson will discuss the current political situation in Palestine-Israel with an eye to a solution to the conflict that has eluded politicians and peace-makers for decades. He will speak from a perspective which emphasizes the universality of human rights and the need for social justice in any potential peace settlement in the Middle East. \nPeterson received his doctorate in Middle Eastern Studies from King’s College\, University of Cambridge. He has taught at St. Edward’s University\, Aga Khan University in London\, and the University of Cambridge where he was supervisor of Arabic Language instruction. He is the author of Palestine-Israel in the Print News Media: Contending Discourses\, published in 2014 as part of the Routledge Studies on the Arab-Israeli Conflict. \nFree and open to the public. \n\n\n\n
URL:http://www.sanantoniopeace.center/event/palestine-israel-in-the-21st-century/
LOCATION:1 Trinity Place\, San Antonio\, TX\, United States
END:VEVENT
END:VCALENDAR