BEGIN:VCALENDAR
VERSION:2.0
PRODID:-//peaceCENTER - ECPv4.6.13//NONSGML v1.0//EN
CALSCALE:GREGORIAN
METHOD:PUBLISH
X-WR-CALNAME:peaceCENTER
X-ORIGINAL-URL:http://www.sanantoniopeace.center
X-WR-CALDESC:Events for peaceCENTER
BEGIN:VEVENT
DTSTART;TZID=America/Chicago:20160521T090000
DTEND;TZID=America/Chicago:20160521T120000
DTSTAMP:20260425T183809
CREATED:20160508T173552Z
LAST-MODIFIED:20160508T173552Z
UID:6885-1463821200-1463832000@www.sanantoniopeace.center
SUMMARY:Organizing 101 Training Session\, COPS/Metro
DESCRIPTION:Organizing 101 Training Session\, COPS/Metro. Our Lady of Guadalupe Church Parish Hall. 1336 San Fernando Street. Please fill out form at www.copsmetro.com/ \n
URL:http://www.sanantoniopeace.center/event/organizing-101-training-session-copsmetro/
LOCATION:1336 San Fernando St.\, San Antonio\, TX\, 78207\, United States
CATEGORIES:Other
END:VEVENT
END:VCALENDAR