BEGIN:VCALENDAR
VERSION:2.0
PRODID:-//peaceCENTER - ECPv4.6.13//NONSGML v1.0//EN
CALSCALE:GREGORIAN
METHOD:PUBLISH
X-WR-CALNAME:peaceCENTER
X-ORIGINAL-URL:http://www.sanantoniopeace.center
X-WR-CALDESC:Events for peaceCENTER
BEGIN:VEVENT
DTSTART;TZID=America/Chicago:20151212T110000
DTEND;TZID=America/Chicago:20151212T150000
DTSTAMP:20260425T134934
CREATED:20151125T221227Z
LAST-MODIFIED:20151125T221227Z
UID:5259-1449918000-1449932400@www.sanantoniopeace.center
SUMMARY:Open House @ Sikh Center
DESCRIPTION:The Sikh Center of San Antonio invites you to an open house event on Saturday\, December 12\, 2015 from 11am-3pm. Please learn more about your Sikh American neighbors\, colleagues and friends. The Open House will provide you with an opportunity to learn about the Sikh faith and identity. A free\, vegetarian lunch will be served. \nPlease RSVP by December 5 for this event by emailing your name and number of guests to: sikhcentersanantonio@gmail.com. Additional information will be forwarded a few days prior to the event. \nWe encourage you to forward this email to your friends and colleagues. All are welcome. \n
URL:http://www.sanantoniopeace.center/event/open-house-sikh-center/
LOCATION:6011 Hollyhock\, San Antonio\, TX\, 78240\, United States
ORGANIZER;CN="Sikh%20Center":MAILTO:sikhcentersanantonio@gmail.com
END:VEVENT
END:VCALENDAR