BEGIN:VCALENDAR
VERSION:2.0
PRODID:-//peaceCENTER - ECPv4.6.13//NONSGML v1.0//EN
CALSCALE:GREGORIAN
METHOD:PUBLISH
X-WR-CALNAME:peaceCENTER
X-ORIGINAL-URL:http://www.sanantoniopeace.center
X-WR-CALDESC:Events for peaceCENTER
BEGIN:VEVENT
DTSTART;TZID=America/Chicago:20170619T160000
DTEND;TZID=America/Chicago:20170621T210000
DTSTAMP:20260425T032000
CREATED:20170308T221151Z
LAST-MODIFIED:20170308T221151Z
UID:9913-1497888000-1498078800@www.sanantoniopeace.center
SUMMARY:Oblate Summer Institute 2017: The Life and Spirituality of Henri Nouwen
DESCRIPTION: \nDelve into the life and spirituality of Henri Nouwen. Nouwen was a Dutch Catholic priest\, professor\, writer and theologian. His interests were rooted primarily in psychology\, pastoral ministry\, spirituality\, social justice and community. Over the course of his life\, Nouwen was heavily influenced by the work of Anton Boisen\, Thomas Merton\, Rembrandt\, Vincent van Gogh and Jean Vanier. \nAfter nearly two decades of teaching at academic institutions including the University of Notre Dame\, Yale Divinity School and Harvard Divinity School\, Nouwen went on to work with mentally and physically handicapped people at the L’Arche Daybreak community in Richmond Hill\, Ontario.\nSpeakers \nSue Moesteller – Mentor and close personal friend of Nouwen\nGabrielle Earnshaw – Author of Love\, Henri: Letters on the Spiritual Life\nMichael Higgins – Official biographer of Henri Nouwen\nLaurent Nouwen – Henri Nouwen’s brother.\nAlana Levandoski – Christian musician.\nRon Rolheiser – Nouwen Scholar\n\nRegistration \nRegistration Fee: $85 (does not include meals nor lodging) \nMeal Package: $65 \nOblate Students may attend free of charge. All other students may attend for a 50% discount. At checkout use this coupon code: student \nStudent discount does not apply to Meal Packages or Lodging.\nLodging \nLodging available at the Oblate Renewal Center.  \n$70 single room; $80 double room ($40 per person) \nFor lodging\, please contact Brenda (210) 341-1366 EXT 212 \n
URL:http://www.sanantoniopeace.center/event/oblate-summer-institute-2017-the-life-and-spirituality-of-henri-nouwen/
LOCATION:285 Oblate Drive\, San Antonio\, 78216\, United States
CATEGORIES:Other
END:VEVENT
END:VCALENDAR