BEGIN:VCALENDAR
VERSION:2.0
PRODID:-//peaceCENTER - ECPv4.6.13//NONSGML v1.0//EN
CALSCALE:GREGORIAN
METHOD:PUBLISH
X-WR-CALNAME:peaceCENTER
X-ORIGINAL-URL:http://www.sanantoniopeace.center
X-WR-CALDESC:Events for peaceCENTER
BEGIN:VEVENT
DTSTART;TZID=America/Chicago:20160528T150000
DTEND;TZID=America/Chicago:20160528T160000
DTSTAMP:20260425T190729
CREATED:20160522T013558Z
LAST-MODIFIED:20160522T013558Z
UID:7009-1464447600-1464451200@www.sanantoniopeace.center
SUMMARY:NOT in OUR TOWN- Film Screening & Discussion
DESCRIPTION:As the Sikh community in Oak Creek\, Wisconsin prepares for Sunday prayers\, a deadly hate attack shatters their lives\, but not their resilience. After six worshipers are killed by a white supremacist\, the local community finds inspiration in the Sikh tradition of forgiveness and faith. \nThis film (approximately 30 minutes long) was produced in conjunction with the U.S. Department of Justice COPS Office as part of the Not In Our Town: Working Together for Safe\, Inclusive Communities Initiative. \n \n
URL:http://www.sanantoniopeace.center/event/not-in-our-town-film-screening-discussion/
LOCATION:8700 Mystic Park\, San Antonio\, TX\, 78254\, United States
CATEGORIES:Other
END:VEVENT
END:VCALENDAR