BEGIN:VCALENDAR
VERSION:2.0
PRODID:-//peaceCENTER - ECPv4.6.13//NONSGML v1.0//EN
CALSCALE:GREGORIAN
METHOD:PUBLISH
X-WR-CALNAME:peaceCENTER
X-ORIGINAL-URL:http://www.sanantoniopeace.center
X-WR-CALDESC:Events for peaceCENTER
BEGIN:VEVENT
DTSTART;TZID=America/Chicago:20150905T100000
DTEND;TZID=America/Chicago:20150905T160000
DTSTAMP:20260425T125414
CREATED:20150828T054048Z
LAST-MODIFIED:20150828T054048Z
UID:3877-1441447200-1441468800@www.sanantoniopeace.center
SUMMARY:New American Internment Camps: a closer look at "family detention" @OLLU
DESCRIPTION: \n
URL:http://www.sanantoniopeace.center/event/new-american-internment-camps-a-closer-look-at-family-detention-ollu/
LOCATION:411 S.W. 24th St.\, San Antonio\, TX\, 78207\, United States
END:VEVENT
END:VCALENDAR