BEGIN:VCALENDAR
VERSION:2.0
PRODID:-//peaceCENTER - ECPv4.6.13//NONSGML v1.0//EN
CALSCALE:GREGORIAN
METHOD:PUBLISH
X-WR-CALNAME:peaceCENTER
X-ORIGINAL-URL:http://www.sanantoniopeace.center
X-WR-CALDESC:Events for peaceCENTER
BEGIN:VEVENT
DTSTART;TZID=America/Chicago:20161103T180000
DTEND;TZID=America/Chicago:20161105T170000
DTSTAMP:20260425T131606
CREATED:20160818T135257Z
LAST-MODIFIED:20160818T135257Z
UID:8454-1478196000-1478365200@www.sanantoniopeace.center
SUMMARY:NEPANTLA – Theories and Practices International Conference on the Life and Work of Gloria E. Anzaldúa  - El Mundo Zurdo Conference 2016
DESCRIPTION:DETAILS ARE STILL PENDING\n \nGloria Evangelina Anzaldúa was an American scholar of Chicana cultural theory\, feminist theory\, and queer theory. \n
URL:http://www.sanantoniopeace.center/event/nepantla-theories-and-practices-international-conference-on-the-life-and-work-of-gloria-e-anzaldua-el-mundo-zurdo-conference-2016/
CATEGORIES:Other
ORGANIZER;CN="UTSA%20Women%27s%20Study%20Institute":MAILTO:Carolyn.motley@utsa.edu
END:VEVENT
END:VCALENDAR