BEGIN:VCALENDAR
VERSION:2.0
PRODID:-//peaceCENTER - ECPv4.6.13//NONSGML v1.0//EN
CALSCALE:GREGORIAN
METHOD:PUBLISH
X-WR-CALNAME:peaceCENTER
X-ORIGINAL-URL:http://www.sanantoniopeace.center
X-WR-CALDESC:Events for peaceCENTER
BEGIN:VEVENT
DTSTART;TZID=America/Chicago:20150810T173000
DTEND;TZID=America/Chicago:20150810T220000
DTSTAMP:20260425T030657
CREATED:20150805T170613Z
LAST-MODIFIED:20150805T170957Z
UID:3788-1439227800-1439244000@www.sanantoniopeace.center
SUMMARY:NEISD School Board Meeting: Discuss Name Change for Lee HS
DESCRIPTION:Monday is the NEISD board meeting\, August 10th at the Richard A. Middleton Education Center (Loop 410 & Broadway.) If you would like to speak\, you will need to arrive and sign up before 5:30. The maximum time you can speak is about 3 minutes. People from the Lee community and all over San Antonio will be there\, including the NAACP. \n  \nSign the petition: https://www.change.org/p/rename-san-antonio-s-robert-e-lee-high-school \nWatch the NOWCastSA video of student organizer Kayla Wilson talking about her petition:\n \n
URL:http://www.sanantoniopeace.center/event/neisd-school-board-meeting-discuss-name-change-for-lee-hs/
LOCATION:8961 Tesoro Drive\, San Antonio\, TX\, 78217\, United States
END:VEVENT
END:VCALENDAR