BEGIN:VCALENDAR
VERSION:2.0
PRODID:-//peaceCENTER - ECPv4.6.13//NONSGML v1.0//EN
CALSCALE:GREGORIAN
METHOD:PUBLISH
X-WR-CALNAME:peaceCENTER
X-ORIGINAL-URL:http://www.sanantoniopeace.center
X-WR-CALDESC:Events for peaceCENTER
BEGIN:VEVENT
DTSTART;TZID=America/Chicago:20150623T063000
DTEND;TZID=America/Chicago:20150623T210000
DTSTAMP:20260424T224633
CREATED:20150610T134020Z
LAST-MODIFIED:20150610T134020Z
UID:3268-1435041000-1435093200@www.sanantoniopeace.center
SUMMARY:Native Plant Society: The Science of Compost
DESCRIPTION:The June meeting of the Native Plant Society of Texas – San Antonio will be about “The Science of Compost.” NPSOT-SA meetings are held on the 4th Tuesday of the month (except August\, November & December) and are free and open to the public.  6:30 PM – Native Plant / seed exchange   7:00 – Meeting & Program. \n
URL:http://www.sanantoniopeace.center/event/native-plant-society-the-science-of-compost/
LOCATION:2809 Broadway\, San Antonio\, TX\, United States
END:VEVENT
END:VCALENDAR