BEGIN:VCALENDAR
VERSION:2.0
PRODID:-//peaceCENTER - ECPv4.6.13//NONSGML v1.0//EN
CALSCALE:GREGORIAN
METHOD:PUBLISH
X-WR-CALNAME:peaceCENTER
X-ORIGINAL-URL:http://www.sanantoniopeace.center
X-WR-CALDESC:Events for peaceCENTER
BEGIN:VEVENT
DTSTART;TZID=America/Chicago:20151025T120000
DTEND;TZID=America/Chicago:20151025T150000
DTSTAMP:20260425T102512
CREATED:20151019T190336Z
LAST-MODIFIED:20151019T190336Z
UID:4489-1445774400-1445785200@www.sanantoniopeace.center
SUMMARY:Multicultural “Harmony for Humanity” Musical Event
DESCRIPTION:Daniel Pearl World Music Days\nThe Daniel Pearl Foundation works to inspire unity and friendship through music\, to counter cultural and religious intolerance\, to foster cross-cultural dialogue and understanding\, and to cultivate responsible and balanced journalism. There will be spoken word\, dance and musical performances from singer/songwriter types to Japanese Taiko drumming to our headliner jazz combo featuring BillyRay Sheppard. \n
URL:http://www.sanantoniopeace.center/event/multicultural-harmony-for-humanity-musical-event/
LOCATION:7142 San Pedro Ave. #116\, San Antonio\, TX\, 78216\, United States
END:VEVENT
END:VCALENDAR