BEGIN:VCALENDAR
VERSION:2.0
PRODID:-//peaceCENTER - ECPv4.6.13//NONSGML v1.0//EN
CALSCALE:GREGORIAN
METHOD:PUBLISH
X-WR-CALNAME:peaceCENTER
X-ORIGINAL-URL:http://www.sanantoniopeace.center
X-WR-CALDESC:Events for peaceCENTER
BEGIN:VEVENT
DTSTART;TZID=America/Chicago:20160809T160000
DTEND;TZID=America/Chicago:20160809T200000
DTSTAMP:20260425T181953
CREATED:20160805T203823Z
LAST-MODIFIED:20160808T121152Z
UID:8295-1470758400-1470772800@www.sanantoniopeace.center
SUMMARY:Mujerista Mural Volunteer Day
DESCRIPTION: \nWe our steady on our way to begin San Anto Cultural Arts 51st Mural in collaboration with Martinez Street Women’s Center and Antioch Missionary Baptist Church. This mural is special because it showcases major accomplishments by African American women in San Antonio to help guide young women into outstanding careers instead of unplanned pregnancies as a teen. \nWe are calling to our community to help us out in a major way by volunteering sometime at Lockwood Park where we will be painting our prepped PolyTab cloth that will later be installed directly onto a 20ft by 63ft wall. This wall is located off Walters and Houston\, down the street from Antioch Baptist Church. \nThe San Antonio Stars\, Local Artists\, and community members will all be there to help all artists of all ages. Please come out and have a part in this monumental event! \n
URL:http://www.sanantoniopeace.center/event/mujerista-mural-volunteer-day/
LOCATION:801 N. Olive St\, San Antonio\, TX\, 78212\, United States
CATEGORIES:Other
END:VEVENT
END:VCALENDAR