BEGIN:VCALENDAR
VERSION:2.0
PRODID:-//peaceCENTER - ECPv4.6.13//NONSGML v1.0//EN
CALSCALE:GREGORIAN
METHOD:PUBLISH
X-WR-CALNAME:peaceCENTER
X-ORIGINAL-URL:http://www.sanantoniopeace.center
X-WR-CALDESC:Events for peaceCENTER
BEGIN:VEVENT
DTSTART;TZID=America/Chicago:20160713T180000
DTEND;TZID=America/Chicago:20160713T193000
DTSTAMP:20260425T204817
CREATED:20160712T000135Z
LAST-MODIFIED:20160712T000135Z
UID:7885-1468432800-1468438200@www.sanantoniopeace.center
SUMMARY:Mujerista Mural Community Meeting
DESCRIPTION: \nWho runs the world? Mujers!\nCan you believe it we are about to embark on our 51st mural? In collaboration with the Martinez Street Women’s Center\, San Anto Cultural Arts invites you to come and help generate ideas and content to go on our next mural completely dedicated to empowerment of young women through cultural pride. We will create a “mujerista” mural at a prominent site on San Antonio’s East Side. Through group and community-focused discussions\, the Mujerista mural will engender and continue meaningful dialogue on important issues\, such as teen pregnancy prevention\, violence against women\, sexuality\, and the abiding value of cultural history to women’ identities—issues too often neglected in school curricula. Come and platica and what it means to be a Mujerista. Bring your thoughts\, stories\, drawings\, and photos. Help us create this mural in our image. Look forward to seeing you there! \n
URL:http://www.sanantoniopeace.center/event/mujerista-mural-community-meeting/
LOCATION:2120 El Paso\, San Antonio\, TX\, 78207\, United States
CATEGORIES:Other
END:VEVENT
END:VCALENDAR