BEGIN:VCALENDAR
VERSION:2.0
PRODID:-//peaceCENTER - ECPv4.6.13//NONSGML v1.0//EN
CALSCALE:GREGORIAN
METHOD:PUBLISH
X-WR-CALNAME:peaceCENTER
X-ORIGINAL-URL:http://www.sanantoniopeace.center
X-WR-CALDESC:Events for peaceCENTER
BEGIN:VEVENT
DTSTART;TZID=America/Chicago:20160913T173000
DTEND;TZID=America/Chicago:20160913T193000
DTSTAMP:20260425T172419
CREATED:20160902T162016Z
LAST-MODIFIED:20160902T162016Z
UID:8559-1473787800-1473795000@www.sanantoniopeace.center
SUMMARY:MOVE San Antonio Voter Guide Release Party
DESCRIPTION:\nWe’re getting ready to MAKE IT RAIN 2016 San Antonio Voter Guides across the Alamo City! \nUp to 50\,000 copies of the finest local political intel and voter education we could gather from elected officials and candidates are being printed as we speak. \nWhat a sneak peak? Join us on Tuesday\, September 13th from 5:30 pm – 7:30 pm for bites\, brews\, and previews of our general election voter guide! You can even help us spread the digital version to all of your friends and sign up to volunteer! \n
URL:http://www.sanantoniopeace.center/event/move-san-antonio-voter-guide-release-party/
LOCATION:315 9th St\, San Antonio\, TX\, 78201\, United States
CATEGORIES:Other
END:VEVENT
END:VCALENDAR