BEGIN:VCALENDAR
VERSION:2.0
PRODID:-//peaceCENTER - ECPv4.6.13//NONSGML v1.0//EN
CALSCALE:GREGORIAN
METHOD:PUBLISH
X-WR-CALNAME:peaceCENTER
X-ORIGINAL-URL:http://www.sanantoniopeace.center
X-WR-CALDESC:Events for peaceCENTER
BEGIN:VEVENT
DTSTART;TZID=America/Chicago:20160117T140000
DTEND;TZID=America/Chicago:20160117T150000
DTSTAMP:20260425T112326
CREATED:20151102T204705Z
LAST-MODIFIED:20151102T205816Z
UID:4870-1453039200-1453042800@www.sanantoniopeace.center
SUMMARY:MLK Wreath Laying Ceremony
DESCRIPTION:The Wreath Laying Ceremony brings together businesses and organizations to lay wreaths at the MLK\, Jr. statue to honor the life\, struggles and accomplishments of Dr. King. This year’s guest speaker is Dennis Kennedy\, Founder and CEO of the National Diversity Council. He has launched several statewide conferences focused on diversity\, leadership and women in states around the country. \n
URL:http://www.sanantoniopeace.center/event/mlk-wreath-laying-ceremony/
LOCATION:Intersection of E. Houston and N. New Braunfels\, San Antonio\, TX\, United States
END:VEVENT
END:VCALENDAR