BEGIN:VCALENDAR
VERSION:2.0
PRODID:-//peaceCENTER - ECPv4.6.13//NONSGML v1.0//EN
CALSCALE:GREGORIAN
METHOD:PUBLISH
X-WR-CALNAME:peaceCENTER
X-ORIGINAL-URL:http://www.sanantoniopeace.center
X-WR-CALDESC:Events for peaceCENTER
BEGIN:VEVENT
DTSTART;TZID=America/Chicago:20160118T100000
DTEND;TZID=America/Chicago:20160118T113000
DTSTAMP:20260425T124038
CREATED:20151102T205732Z
LAST-MODIFIED:20151102T205732Z
UID:4876-1453111200-1453116600@www.sanantoniopeace.center
SUMMARY:MLK March
DESCRIPTION:Join in one of the country’s largest MLK Marches. The 2.5 mile march starts at 10AM at the Dr. Martin Luther King\, Jr. Academy\, 3501 Martin Luther King Drive\, and ends at Pittman-Sullivan Park\, 1101 Iowa St. Individuals as well as civic\, social and religious organizations are encouraged to bring their banners and be a part of this unforgettable experience. \nFor route information or VIA Park and Ride locations\, visit www.sanantonio.gov/mlk. \n
URL:http://www.sanantoniopeace.center/event/mlk-march-2/
LOCATION:3501 Martin Luther King Drive\, San Antonio\, TX\, United States
END:VEVENT
END:VCALENDAR