BEGIN:VCALENDAR
VERSION:2.0
PRODID:-//peaceCENTER - ECPv4.6.13//NONSGML v1.0//EN
CALSCALE:GREGORIAN
METHOD:PUBLISH
X-WR-CALNAME:peaceCENTER
X-ORIGINAL-URL:http://www.sanantoniopeace.center
X-WR-CALDESC:Events for peaceCENTER
BEGIN:VEVENT
DTSTART;TZID=America/Chicago:20160118T080000
DTEND;TZID=America/Chicago:20160118T100000
DTSTAMP:20260425T141011
CREATED:20160101T141621Z
LAST-MODIFIED:20160101T141621Z
UID:5906-1453104000-1453111200@www.sanantoniopeace.center
SUMMARY:MLK\, Jr. Pre-March Civil Rights for Kids Experience
DESCRIPTION:The MLK\, Jr. Pre-March Civil Rights for Kids Experience provides an opportunity for youth of all ages to learn about our nation’s history\, discuss current events\, and brainstorm how they can make a difference in the community. Presented by the San Antonio Martin Luther King\, Jr. Commission\, the event will include a visual civil rights timeline\, writing personal mission statements\, creating banners and more. Free and open to the public. \n
URL:http://www.sanantoniopeace.center/event/mlk-jr-pre-march-civil-rights-for-kids-experience/
LOCATION:3501 Martin Luther King Drive\, San Antonio\, TX\, United States
END:VEVENT
END:VCALENDAR