BEGIN:VCALENDAR
VERSION:2.0
PRODID:-//peaceCENTER - ECPv4.6.13//NONSGML v1.0//EN
CALSCALE:GREGORIAN
METHOD:PUBLISH
X-WR-CALNAME:peaceCENTER
X-ORIGINAL-URL:http://www.sanantoniopeace.center
X-WR-CALDESC:Events for peaceCENTER
BEGIN:VEVENT
DTSTART;TZID=America/Chicago:20150115T193000
DTEND;TZID=America/Chicago:20150115T213000
DTSTAMP:20260425T145126
CREATED:20141211T144326Z
LAST-MODIFIED:20141211T144326Z
UID:1651-1421350200-1421357400@www.sanantoniopeace.center
SUMMARY:MLK\, Jr. Commemorative Lecture @ Trinity
DESCRIPTION:The City of San Antonio MLK Jr. Commission and Trinity University host the annual MLK Jr. Commemorative Lecture. Tim Wise\, anti-racist essayist\, author\, and educator\, will be the guest speaker for the event. He will present “The Legacy of Dr. King and Today’s Civil Rights Struggles.” \nWise’s antiracism work traces back to his days as a college activist in the 1980s\, fighting for divestment from (and economic sanctions against) apartheid South Africa. After graduation\, he threw himself into social justice efforts full-time\, as a Youth Coordinator and Associate Director of the Louisiana Coalition Against Racism and Nazism: the largest of the many groups organized in the early 1990s to defeat the political candidacies of white supremacist and former Ku Klux Klan leader David Duke. From there\, he became a community organizer in New Orleans’ public housing\, and a policy analyst for a children’s advocacy group focused on combating poverty and economic inequity. He has served as an adjunct professor at the Smith College School of Social Work\, in Northampton\, MA.\, and from 1999-2003 was an adviser to the Fisk University Race Relations Institute in Nashville\, TN. \nWise is the author of six books\, including his highly-acclaimed memoir\, White Like Me: Reflections on Race from a Privileged Son\, as well as Dear White America: Letter to a New Minority\, and Colorblind: The Rise of Post-Racial Politics and the Retreat from Racial Equity. His next book\, Culture of Cruelty: How America’s Elite Demonize the Poor\, Valorize the Rich and Jeopardize the Future\, will be released in early 2015. He has contributed chapters or essays to over 25 additional books and his writings are taught in colleges and universities across the nation. His essays have appeared on Alternet\, Salon\, Huffington Post\, Counterpunch\, The Root\, Black Commentator\, BK Nation and Z Magazine among others. \nCampus Map \n
URL:http://www.sanantoniopeace.center/event/mlk-jr-commemorative-lecture-trinity/
LOCATION:1 Stadium Dr. \, San Antonio\, TX\, 78212\, United States
END:VEVENT
END:VCALENDAR