BEGIN:VCALENDAR
VERSION:2.0
PRODID:-//peaceCENTER - ECPv4.6.13//NONSGML v1.0//EN
CALSCALE:GREGORIAN
METHOD:PUBLISH
X-WR-CALNAME:peaceCENTER
X-ORIGINAL-URL:http://www.sanantoniopeace.center
X-WR-CALDESC:Events for peaceCENTER
BEGIN:VEVENT
DTSTART;TZID=America/Chicago:20160114T193000
DTEND;TZID=America/Chicago:20160114T203000
DTSTAMP:20260425T141551
CREATED:20151021T072250Z
LAST-MODIFIED:20160113T141452Z
UID:4514-1452799800-1452803400@www.sanantoniopeace.center
SUMMARY:MLK Jr. Commemorative Lecture @ Trinity w/Dr. Freeman Hrabowski
DESCRIPTION:Trinity University and the City of San Antonio MLK Jr. Commission present the 2016 Martin Luther King\, Jr. Commemorative Lecture. Dr. Freeman Hrabowski will be the keynote speaker. His speech is titled Holding Fast to Dreams: Creating a Climate of Success for All Students. Dr. Hrabowski\, President of the University of Maryland\, Baltimore County (UMBC) since 1992\, is a consultant on science and math education to national agencies\, universities\, and school systems. A child-leader in the Civil Rights Movement\, Hrabowski was prominently featured in Spike Lee’s 1997 documentary\, Four Little Girls\, on the racially motivated bombing in 1963 of Birmingham’s Sixteenth Street Baptist Church. This event is free and open to the public. \n
URL:http://www.sanantoniopeace.center/event/mlk-jr-commemorative-lecture-trinity-2/
LOCATION:One Trinity Place\, San Antonio\, TX\, 78212\, United States
END:VEVENT
END:VCALENDAR