BEGIN:VCALENDAR
VERSION:2.0
PRODID:-//peaceCENTER - ECPv4.6.13//NONSGML v1.0//EN
CALSCALE:GREGORIAN
METHOD:PUBLISH
X-WR-CALNAME:peaceCENTER
X-ORIGINAL-URL:http://www.sanantoniopeace.center
X-WR-CALDESC:Events for peaceCENTER
BEGIN:VEVENT
DTSTART;TZID=America/Chicago:20180111T193000
DTEND;TZID=America/Chicago:20180111T210000
DTSTAMP:20260425T002638
CREATED:20171218T172153Z
LAST-MODIFIED:20171218T172153Z
UID:11605-1515699000-1515704400@www.sanantoniopeace.center
SUMMARY:MLK Jr. Commemorative Lecture: Kathleen Cleaver
DESCRIPTION: \nTrinity University presents its 2018 Martin Luther King Jr. Commemorative Lecture speaker\, Kathleen Cleaver\, a human rights advocate and senior lecturer and researcher fellow at Emory University School of Law. \nKathleen Neal Cleaver has spent more of her life participating in the human rights struggle. Since 2000 Cleaver has served as the co-director of the Human Rights Research Fund\, part of a network of anti-racist organizations that document violations of the human rights of U.S. citizens who challenge the racist and military policies within the United States. Cleaver is also currently a senior lecturer and research fellow at Emory University School of Law. \nFrom 1967-71 Cleaver was the communications secretary of the Black Panther Party and the first woman member of their central committee. After sharing years of exile with her former husband Eldridge Cleaver in Algeria and France\, she returned to the United States in late 1975. \nThe 2018 MLK Jr. Commemorative Lecture is cosponsored by Trinity University and the City of San Antonio MLK Jr. Commission. \nThis event is free and open to the public. No tickets are required. \n
URL:http://www.sanantoniopeace.center/event/mlk-jr-commemorative-lecture-kathleen-cleaver/
LOCATION:1 Auditorium Circle\, San Antonio\, TX\, 78212\, United States
CATEGORIES:DreamWeek,Other
END:VEVENT
END:VCALENDAR