BEGIN:VCALENDAR
VERSION:2.0
PRODID:-//peaceCENTER - ECPv4.6.13//NONSGML v1.0//EN
CALSCALE:GREGORIAN
METHOD:PUBLISH
X-WR-CALNAME:peaceCENTER
X-ORIGINAL-URL:http://www.sanantoniopeace.center
X-WR-CALDESC:Events for peaceCENTER
BEGIN:VEVENT
DTSTART;TZID=America/Chicago:20160917T140000
DTEND;TZID=America/Chicago:20160917T160000
DTSTAMP:20260425T193111
CREATED:20160721T215944Z
LAST-MODIFIED:20160721T215944Z
UID:8162-1474120800-1474128000@www.sanantoniopeace.center
SUMMARY:Mil Guitarras para Víctor Jara
DESCRIPTION: \nOn Saturday afternoon\, September 17 at 2:00 PM at the Esperanza Peace & Justice Center\, join renowned San Antonio singer-songwriters Tish Hinojosa and Lourdes Pérez and others to sing the songs of the great Chilean songwriter Victor Jara. Victor’s songs of love\, friendship\, social justice\, and peace are still sung throughout the world over forty years after his assassination during the 1973 coup that overthrew the democratically-elected government of Dr. Salvador Allende. \nMil Guitarras para Víctor Jara is held annually in Santiago\, Chile. You can view a video of it here: https://youtu.be/Le0yHGo_ha4 \nThis year we will hold our own Mil Guitarras event right here in San Antonio to honor Víctor’s memory AND to encourage the U.S. government to extradite his assassin–who lives openly in south Florida–to face justice in Chile. \nThis is a participatory activity that anyone can attend on September 17 If you’d like to sing along in the official “choir” with Tish and Lourdes\, you may come to a couple of rehearsals before the event to practice the songs. This year\, we’ll be singing songs from his album Pongo en tus manos abiertas\, which you can listen to online at https://youtu.be/7stPp7P_ZoY \nIf you’re interested in participating in Mil Guitarras para Víctor Jara\, send an email to dspener@trinity.edu in addition to responding to this invitation. \n
URL:http://www.sanantoniopeace.center/event/mil-guitarras-para-victor-jara/
LOCATION:922 San Pedro\, San Antonio\, TX\, 78212\, United States
CATEGORIES:Other
ORGANIZER;CN="Esperanza%20Peace%20%26%20Justice%20Center":MAILTO:(210) 228-0201
END:VEVENT
END:VCALENDAR