BEGIN:VCALENDAR
VERSION:2.0
PRODID:-//peaceCENTER - ECPv4.6.13//NONSGML v1.0//EN
CALSCALE:GREGORIAN
METHOD:PUBLISH
X-WR-CALNAME:peaceCENTER
X-ORIGINAL-URL:http://www.sanantoniopeace.center
X-WR-CALDESC:Events for peaceCENTER
BEGIN:VEVENT
DTSTART;TZID=America/Chicago:20160923T180000
DTEND;TZID=America/Chicago:20160923T203000
DTSTAMP:20260425T165850
CREATED:20160806T013824Z
LAST-MODIFIED:20160806T013824Z
UID:8296-1474653600-1474662600@www.sanantoniopeace.center
SUMMARY:Mexican Migration to the United States: Perspectives From Both Sides of the Border
DESCRIPTION: \nThe UTSA Institute of Texan Cultures will welcome UTSA Mexico Center director Dr. Harriett Romo and Mexico Center program director Olivia Mogollon\, along with U.S. and Mexican scholars\, for a panel presentation on migration between Mexico and the U.S. \nRomo and Mogollon recently published a compilation of contemporary research including the work of prominent Mexican and U.S. scholars. The book\, Mexican Migration to the United States: Perspectives from Both Sides of the Border\, published by UT Press 2016\, has been well-received in Mexico and will be presented at the ITC September 23. Mexican and U.S. contributors will present their research\, with commentary from Mexican scholar\, Pablo Mateos\, from the Mexican research center CIESAS. The presentations will be in English. \nThe book presents perspectives from both sides of the border\, with American and Mexican scholars speaking from the unique lenses of their academic disciplines: anthropology\, history\, political science\, economics and more. The book is structured around themes including legal frameworks for immigration in the U.S. and Mexico\, experiences of immigrants in the U.S.\, and return migration. \n
URL:http://www.sanantoniopeace.center/event/mexican-migration-to-the-united-states-perspectives-from-both-sides-of-the-border/
LOCATION:801 E. Cesar E. Chavez Blvd.\, San Antonio\, TX\, 78205\, United States
END:VEVENT
END:VCALENDAR