BEGIN:VCALENDAR
VERSION:2.0
PRODID:-//peaceCENTER - ECPv4.6.13//NONSGML v1.0//EN
CALSCALE:GREGORIAN
METHOD:PUBLISH
X-WR-CALNAME:peaceCENTER
X-ORIGINAL-URL:http://www.sanantoniopeace.center
X-WR-CALDESC:Events for peaceCENTER
BEGIN:VEVENT
DTSTART;TZID=America/Chicago:20150321T180000
DTEND;TZID=America/Chicago:20150321T210000
DTSTAMP:20260425T141116
CREATED:20150226T112719Z
LAST-MODIFIED:20150226T112719Z
UID:2561-1426960800-1426971600@www.sanantoniopeace.center
SUMMARY:MCECC Annual Open House: History of Islam in America
DESCRIPTION: \n
URL:http://www.sanantoniopeace.center/event/mcecc-annual-open-house-history-of-islam-in-america/
LOCATION:5281 Casa Bella\, San Antonio\, TX\, 78249\, United States
END:VEVENT
END:VCALENDAR