BEGIN:VCALENDAR
VERSION:2.0
PRODID:-//peaceCENTER - ECPv4.6.13//NONSGML v1.0//EN
CALSCALE:GREGORIAN
METHOD:PUBLISH
X-WR-CALNAME:peaceCENTER
X-ORIGINAL-URL:http://www.sanantoniopeace.center
X-WR-CALDESC:Events for peaceCENTER
BEGIN:VEVENT
DTSTART;TZID=America/Chicago:20160126T053000
DTEND;TZID=America/Chicago:20160126T183000
DTSTAMP:20260425T124746
CREATED:20151208T033137Z
LAST-MODIFIED:20151208T033137Z
UID:5632-1453786200-1453833000@www.sanantoniopeace.center
SUMMARY:Mayor Taylor @ UTSA College of Public Policy
DESCRIPTION: \n
URL:http://www.sanantoniopeace.center/event/mayor-taylor-utsa-college-of-public-policy/
LOCATION:501 W. César E. Chávez Blvd.\, San Antonio\, TX\, 78207\, United States
END:VEVENT
END:VCALENDAR