BEGIN:VCALENDAR
VERSION:2.0
PRODID:-//peaceCENTER - ECPv4.6.13//NONSGML v1.0//EN
CALSCALE:GREGORIAN
METHOD:PUBLISH
X-WR-CALNAME:peaceCENTER
X-ORIGINAL-URL:http://www.sanantoniopeace.center
X-WR-CALDESC:Events for peaceCENTER
BEGIN:VEVENT
DTSTART;TZID=America/Chicago:20160113T173000
DTEND;TZID=America/Chicago:20160113T193000
DTSTAMP:20260425T125018
CREATED:20160102T130805Z
LAST-MODIFIED:20160102T130805Z
UID:5921-1452706200-1452713400@www.sanantoniopeace.center
SUMMARY:Mass Incarceration In America: Who Goes To Prison And Why?
DESCRIPTION:Bridging the gap to address the reasons behind mass incarceration\, from the war on drugs to women and transgender people facing prison time. Please join us and help end mass incarceration. There will be a presentation by panelists plus Q and A at the end. \n Speakers:  \nCathy Marston\, Free Battered Texas Women\n-Sasha Taylor\, Black & Pink\n-Jennifer Erschabek\, Texas Inmate Family Association\n-Margarita McAuliffe\, Mothers Act for Criminal Justice Reform\n-Mike Lowe\, SATX4\n-Rebecca Flores\, Advocate for Refugees\n-Maximo Anguiano\, Creative & Public Intellectual\n-Marisa Laufer\, San Antonio NORML \n
URL:http://www.sanantoniopeace.center/event/mass-incarceration-in-america-who-goes-to-prison-and-why/
LOCATION:414 S Alamo St\, San Antonio\, TX\, United States
END:VEVENT
END:VCALENDAR