BEGIN:VCALENDAR
VERSION:2.0
PRODID:-//peaceCENTER - ECPv4.6.13//NONSGML v1.0//EN
CALSCALE:GREGORIAN
METHOD:PUBLISH
X-WR-CALNAME:peaceCENTER
X-ORIGINAL-URL:http://www.sanantoniopeace.center
X-WR-CALDESC:Events for peaceCENTER
BEGIN:VEVENT
DTSTART;TZID=America/Chicago:20151224T140000
DTEND;TZID=America/Chicago:20151224T150000
DTSTAMP:20260425T124022
CREATED:20151224T172151Z
LAST-MODIFIED:20151224T172151Z
UID:5885-1450965600-1450969200@www.sanantoniopeace.center
SUMMARY:March Against Police Brutality and Political Corruption
DESCRIPTION: \nA group of activists will meet at the San Fernando cathedral and march to the Alamo on Christmas Eve to stand against police brutality and political corruption in San Antonio. \n
URL:http://www.sanantoniopeace.center/event/march-against-police-brutality-and-political-corruption/
LOCATION:115 N Main Plaza\, San Antonio\, TX\, 78205\, United States
END:VEVENT
END:VCALENDAR