BEGIN:VCALENDAR
VERSION:2.0
PRODID:-//peaceCENTER - ECPv4.6.13//NONSGML v1.0//EN
CALSCALE:GREGORIAN
METHOD:PUBLISH
X-WR-CALNAME:peaceCENTER
X-ORIGINAL-URL:http://www.sanantoniopeace.center
X-WR-CALDESC:Events for peaceCENTER
BEGIN:VEVENT
DTSTART;TZID=America/Chicago:20170519T200000
DTEND;TZID=America/Chicago:20170519T220000
DTSTAMP:20260425T111732
CREATED:20170509T042441Z
LAST-MODIFIED:20170509T042441Z
UID:10313-1495224000-1495231200@www.sanantoniopeace.center
SUMMARY:Malcolm X Day @MCECC
DESCRIPTION: \nJoin MCECC to learn from the legacy of Malcolm X. Program will include a panel discussion with various community leaders. \n
URL:http://www.sanantoniopeace.center/event/malcolm-x-day-mcecc/
LOCATION:5281 Casa Bella\, San Antonio\, TX\, 78249\, United States
CATEGORIES:Other
END:VEVENT
END:VCALENDAR