BEGIN:VCALENDAR
VERSION:2.0
PRODID:-//peaceCENTER - ECPv4.6.13//NONSGML v1.0//EN
CALSCALE:GREGORIAN
METHOD:PUBLISH
X-WR-CALNAME:peaceCENTER
X-ORIGINAL-URL:http://www.sanantoniopeace.center
X-WR-CALDESC:Events for peaceCENTER
BEGIN:VEVENT
DTSTART;TZID=America/Chicago:20141112T180000
DTEND;TZID=America/Chicago:20141112T203000
DTSTAMP:20260425T172314
CREATED:20141018T171004Z
LAST-MODIFIED:20141018T171004Z
UID:355-1415815200-1415824200@www.sanantoniopeace.center
SUMMARY:Love is a Verb Film Screening
DESCRIPTION: \nLove Is A Verb is the first feature-length documentary about the Gulen Movement\, or Hizmet\, and its inspiration Fethullah Gulen\, a man that TIME Magazine named as one of the most influential leaders in the world in 2013. \nEmmy Award Winner Terry Spencer Hesser has spent three years developing this documentary. She and her team traveled to 6 countries -United States\, Turkey\, Bosnia and Herzegovina\, Belgium\, Iraq and Somalia – capturing the spirit of the movement through personal stories and interviews. \nTickets: Seating is Limited. Please RSVP Early at  https://www.eventbrite.com/e/13745863247 \nAge: Children under the age of 12 are not allowed \nWhen: November 12\, 2014\nRegistration and Reception 6:00pm\nScreening: 6:45pm – 8:00 pm\nQ&A : 8:00 pm – 8:30 pm with the producer Terry Spencer Hesser \nAs Dialogue Institute\, we cordially invite you to get to know about the Hizmet Movement and Fethullah Gulen\, whose inspirations motivated millions of people to do good for their societies. \nMore information about the documentary can be found at www.loveisaverbmovie.com\nShould you have any questions or comments\, please do not hesitate to contact us. \nSister Martha Ann Kirk at kirk@uiwtx.edu\nMehmet Oguz at oguz@thedialoginstitute.org or 210-3771110 \n
URL:http://www.sanantoniopeace.center/event/love-is-a-verb-film-screening/
LOCATION:847 East Hildebrand Avenue\, San Antonio\, TX\, 78212\, United States
END:VEVENT
END:VCALENDAR