BEGIN:VCALENDAR
VERSION:2.0
PRODID:-//peaceCENTER - ECPv4.6.13//NONSGML v1.0//EN
CALSCALE:GREGORIAN
METHOD:PUBLISH
X-WR-CALNAME:peaceCENTER
X-ORIGINAL-URL:http://www.sanantoniopeace.center
X-WR-CALDESC:Events for peaceCENTER
BEGIN:VEVENT
DTSTART;TZID=America/Chicago:20150122T110000
DTEND;TZID=America/Chicago:20150122T140000
DTSTAMP:20260425T163453
CREATED:20150105T232713Z
LAST-MODIFIED:20150105T232713Z
UID:1932-1421924400-1421935200@www.sanantoniopeace.center
SUMMARY:Love in the Time of Ebola:  How faith and science can come together to dispel fear and bring about healing.
DESCRIPTION:Date: Thursday\, January 22\, 2015\nTime: 11:00 AM to 2:00 PM\nPlace: The Ecumenical Center\, 8310 Ewing Halsell \nCost: $22 (includes lunch and CEUs). \nA limited number of scholarships are available for clergy to cover the cost of this lunch. Please email dpfitzen@ecrh.org with your name and credentials. Thank you! \nSpace is limited. Please register here. \nPlease join us for a working lunch at The Center with Rev. Dr. George Mason\, senior pastor at Wilshire Baptist Church in Dallas\, Texas. Mason will be presenting on lessons learned from a brush with Ebola and serving as the face of faith at the heart of a crisis. He will be followed by a panel discussion with Rev. Dr. Louis Zbinden\, Rabbi Dr. Samuel Stahl\, Rev. Dr. Don Anderson and Dr. Ian Thompson. \nRev. Dr. Mason made the choice to issue a press release that one of his congregants\, Louise Troh\, had been placed in quarantine. Troh had been planning her upcoming marriage to Thomas Eric Duncan\, the first person in the U.S. to be diagnosed with Ebola and the first to lose his life to the disease. In one article\, Mason was quoted as saying\, “Anyone would be surprised at how close this has been to home\,” Mason said. “But I think our church has prepared as best we can. If it had to happen somewhere\, let’s just say that we feel the burden of this privilege\, this terrifying privilege. Regardless of the outcome\, we’ll walk beside them and be good stewards of this tragedy.” \nThey were words he and his congregation lived out— literally and figuratively — embracing her in love while many others in the community shunned her in fear. \nAt our lunch\, Rev. Dr. Mason will share his congregational response to a crisis that is situated at the center of national attention. \nThe Rev. Dr. George Mason has been the senior pastor of the Wilshire Baptist Church in Dallas\, TX\, for 25 years. He is a native New Yorker and holds a business degree from the University of Miami and both master of divinity and doctor of philosophy degrees from Southwestern Baptist Theological Seminary. He has been active in social justice pursuits in race relations\, public education and payday lending. Most recently\, he has been given the Dallas County Medical Society Award for Non-Physician of the Year for his work in the Ebola crisis in Dallas. \n
URL:http://www.sanantoniopeace.center/event/love-in-the-time-of-ebola-how-faith-and-science-can-come-together-to-dispel-fear-and-bring-about-healing/
LOCATION:8310 Ewing Halsell\, San Antonio\, TX\, United States
END:VEVENT
END:VCALENDAR