BEGIN:VCALENDAR
VERSION:2.0
PRODID:-//peaceCENTER - ECPv4.6.13//NONSGML v1.0//EN
CALSCALE:GREGORIAN
METHOD:PUBLISH
X-WR-CALNAME:peaceCENTER
X-ORIGINAL-URL:http://www.sanantoniopeace.center
X-WR-CALDESC:Events for peaceCENTER
BEGIN:VEVENT
DTSTART;TZID=America/Chicago:20160417T150000
DTEND;TZID=America/Chicago:20160417T170000
DTSTAMP:20260425T145455
CREATED:20160404T023127Z
LAST-MODIFIED:20160412T024205Z
UID:6775-1460905200-1460912400@www.sanantoniopeace.center
SUMMARY:***Living Room Conversation: Why Interfaith San Antonio\, and Why Now?***
DESCRIPTION:Join the peaceCENTER\, San Antonio Peace Laureates and others in a deep and lively discussion about interfaith relations in San Antonio. Laureates model civil discourse\, share wisdom\, and encourage participating attendees into having similar conversations in their homes\, community centers\, schools\, congregations — creating through conversation rooms that are living! \n
URL:http://www.sanantoniopeace.center/event/living-room-conversation-why-interfaith-san-antonio-and-why-now/
LOCATION:285 Oblate Dr.\, San Antonio\, TX\, 78216\, United States
CATEGORIES:peaceCENTER
ORGANIZER;CN="San%20Antonio%20peaceCENTER":MAILTO:info@sacompassionnet.org
END:VEVENT
END:VCALENDAR