BEGIN:VCALENDAR
VERSION:2.0
PRODID:-//peaceCENTER - ECPv4.6.13//NONSGML v1.0//EN
CALSCALE:GREGORIAN
METHOD:PUBLISH
X-WR-CALNAME:peaceCENTER
X-ORIGINAL-URL:http://www.sanantoniopeace.center
X-WR-CALDESC:Events for peaceCENTER
BEGIN:VEVENT
DTSTART;TZID=America/Chicago:20160921T180000
DTEND;TZID=America/Chicago:20160921T203000
DTSTAMP:20260425T175515
CREATED:20160531T160037Z
LAST-MODIFIED:20160531T160037Z
UID:7143-1474480800-1474489800@www.sanantoniopeace.center
SUMMARY:Living Room Conversation on Compassion: Interfaith Academy
DESCRIPTION:Join the peaceCENTER on a session of the Dialogue Institute of the Southwest’s Interfaith Academy\, where we will host a living room style conversation about compassion. Show up at 6pm for a light meal of lentil soup\, bread and fruit\, followed by a rich and lively conversation about compassion\, and ending with the dedication of the peace pole in the Whitley Center courtyard. \n
URL:http://www.sanantoniopeace.center/event/living-room-conversation-on-compassion-interfaith-academy/
LOCATION:285 Oblate Dr.\, San Antonio\, TX\, 78216\, United States
CATEGORIES:peaceCENTER
END:VEVENT
END:VCALENDAR